BEGIN:VCALENDAR
VERSION:2.0
PRODID:-//eventon.com NONSGML v1.0//EN
CALSCALE:GREGORIAN
METHOD:PUBLISH
BEGIN:VEVENT
UID:69ed87c164840
DTSTAMP:20260426T033425Z
DTSTART:20250225T163000Z
DTEND:20250225T180000Z
LOCATION:
SUMMARY:Selbsthilfe-Kreis "Pride Positivity"
DESCRIPTION:Du bist auf der Suche nach einem sicheren Raum\,  in dem du dei
 ne Identität frei und ohne Angst leben kannst?Eine Gemeinschaft\,  die dic
 h versteht\,  unterstützt und dir den Rücken stärkt? Dann ist unser quee
 rer Selbsthilfe-Kreis genau der richtige Ort für dich!Hier treffen sich Me
 nschen aus allen Bereichen des queeren Spektrums\, [..]\nhttps://bocholt-pr
 ide.org/events/selbsthilfe-kreis-pride-positivity-2/
URL:https://bocholt-pride.org/events/selbsthilfe-kreis-pride-positivity-2/
END:VEVENT
END:VCALENDAR